BEGIN:VCALENDAR
VERSION:2.0
BEGIN:VEVENT
URL:https://drifterswharf.oztix.com.au/outlet/event/7e396f77-a79f-4494-80b6-4869c7050905
DTSTART:20260704T093000Z
DTEND:20260704T093000Z
SUMMARY:PNAU - The Nirvana Tour
DESCRIPTION:Event details: https://drifterswharf.oztix.com.au/outlet/event/7e396f77-a79f-4494-80b6-4869c7050905
LOCATION:Drifters Wharf (Gosford, NSW)
END:VEVENT
END:VCALENDAR